BEGIN:VCALENDAR
VERSION:2.0
PRODID:gruene-reinbek.de
METHOD:PUBLISH
BEGIN:VTIMEZONE
TZID:Europe/Berlin
X-LIC-LOCATION:Europe/Berlin
BEGIN:DAYLIGHT
TZOFFSETFROM:+0100
TZOFFSETTO:+0200
TZNAME:CEST
DTSTART:19700329T020000
RRULE:FREQ=YEARLY;INTERVAL=1;BYDAY=-1SU;BYMONTH=3
END:DAYLIGHT
BEGIN:STANDARD
TZOFFSETFROM:+0200
TZOFFSETTO:+0100
TZNAME:CET
DTSTART:19701025T030000
RRULE:FREQ=YEARLY;INTERVAL=1;BYDAY=-1SU;BYMONTH=10
END:STANDARD
END:VTIMEZONE
BEGIN:VEVENT
UID:ab2ffa85eebb71252750e68ff5295258@gruene-reinbek.de
URL;VALUE=URI:https://gruene-reinbek.de/termine/fraktionssitzung-3/
LOCATION:Reinbek
SUMMARY:Treffen des Ortsverbandes
DESCRIPTION;ALTREP="data:text/html,%3Cp%3EWir%20treffen%20uns%20regelm%C3
 %A4%C3%9Fig%20im%20Ortsverband.%20M%C3%B6chtest%20Du%20dabei%20sein%2C%20
 %3Ca%20href%3D%22http%3A%2F%2Fgruene-reinbek.de%2Fkontakt%2F%22%3Emelde%3
 C%2Fa%3E%20Dich%20bei%20uns.%3C%2Fp%3E%0A%0A%0A%3Cp%3E%3C%2Fp%3E%0A":Wir 
 treffen uns regelmäßig im Ortsverband. Möchtest Du dabei sein\, melde 
 Dich bei uns.
CLASS:PUBLIC
DTSTART;TZID=Europe/Berlin:20250224T193000
DTEND;TZID=Europe/Berlin:20250224T203000
DTSTAMP:20260423T043235
END:VEVENT
END:VCALENDAR